BEGIN:VCALENDAR
VERSION:2.0
PRODID:-//BCCEEP - ECPv6.15.17//NONSGML v1.0//EN
CALSCALE:GREGORIAN
METHOD:PUBLISH
X-ORIGINAL-URL:https://bcceep.com
X-WR-CALDESC:Events for BCCEEP
REFRESH-INTERVAL;VALUE=DURATION:PT1H
X-Robots-Tag:noindex
X-PUBLISHED-TTL:PT1H
BEGIN:VTIMEZONE
TZID:America/Toronto
BEGIN:DAYLIGHT
TZOFFSETFROM:-0500
TZOFFSETTO:-0400
TZNAME:EDT
DTSTART:20240310T070000
END:DAYLIGHT
BEGIN:STANDARD
TZOFFSETFROM:-0400
TZOFFSETTO:-0500
TZNAME:EST
DTSTART:20241103T060000
END:STANDARD
BEGIN:DAYLIGHT
TZOFFSETFROM:-0500
TZOFFSETTO:-0400
TZNAME:EDT
DTSTART:20250309T070000
END:DAYLIGHT
BEGIN:STANDARD
TZOFFSETFROM:-0400
TZOFFSETTO:-0500
TZNAME:EST
DTSTART:20251102T060000
END:STANDARD
BEGIN:DAYLIGHT
TZOFFSETFROM:-0500
TZOFFSETTO:-0400
TZNAME:EDT
DTSTART:20260308T070000
END:DAYLIGHT
BEGIN:STANDARD
TZOFFSETFROM:-0400
TZOFFSETTO:-0500
TZNAME:EST
DTSTART:20261101T060000
END:STANDARD
BEGIN:DAYLIGHT
TZOFFSETFROM:-0500
TZOFFSETTO:-0400
TZNAME:EDT
DTSTART:20270314T070000
END:DAYLIGHT
BEGIN:STANDARD
TZOFFSETFROM:-0400
TZOFFSETTO:-0500
TZNAME:EST
DTSTART:20271107T060000
END:STANDARD
END:VTIMEZONE
BEGIN:VEVENT
DTSTART;TZID=America/Toronto:20260228T143000
DTEND;TZID=America/Toronto:20260228T170000
DTSTAMP:20260420T091206
CREATED:20260227T195158Z
LAST-MODIFIED:20260227T195158Z
UID:6611-1772289000-1772298000@bcceep.com
SUMMARY:Omoluabi Black History Month Celebration - Windsor 2026
DESCRIPTION:Omoluabi Black History Month Windsor Celebration \nFeaturing Babarinde Williams & Teajai Travis \nHighlights\n\nSeniors’ Fashion Show\nLimited vendors tables available\nOmoluabi Youth Club Presentation\nAfrican Fabrics and other Products on Display & for Sale\n\nRefreshments will be served \nVenue\nMackenzie Hall Cultural Centre\n3277 Sandwich St. W\, Windsor\, ON N9C 1A9\, Canada\nView on Google Maps \nPartly funded by Governments of Canada and Ontario \n\nCélébration Omoluabi du Mois de l’histoire des Noirs à Windsor \nAvec Babarinde Williams & Teajai Travis \nPoints forts\n\nDéfilé de mode pour seniors\nPrésentation du club de jeunes d’Omoluabi\nNombre limité de tables disponibles pour les vendeurs\nTissus africains et autres produits exposés à la vente\n\nDes rafraîchissements seront servis \nLieu\nMackenzie Hall Cultural Centre\n3277 Sandwich St. W\, Windsor\, ON N9C 1A9\, Canada\nVoir sur Google Maps \nFinancé en partie par les gouvernements du Canada et de l’Ontario
URL:https://bcceep.com/event/omoluabi-black-history-month-celebration-windsor-2026/
LOCATION:MacKenzie Hall Cultural Centre | 3277 Sandwich St. West\, 3277 Sandwich St. W\, Windsor\, Ontario\, N9C 1A9\, Canada
CATEGORIES:20
ATTACH;FMTTYPE=image/jpeg:https://bcceep.com/wp-content/uploads/2026/02/omoluabi-bhm-windsor-2026-en-1.jpg
END:VEVENT
BEGIN:VEVENT
DTSTART;TZID=America/Toronto:20250619T170000
DTEND;TZID=America/Toronto:20250619T193000
DTSTAMP:20260420T091206
CREATED:20250606T191101Z
LAST-MODIFIED:20250606T191107Z
UID:6547-1750352400-1750361400@bcceep.com
SUMMARY:SRAMH Windsor May 2025
DESCRIPTION:  \nPlease join us on Thursday June 19th at 5pm in Windsor for our SRAMH Program. This event will include generational activities such as story sharing\, karaoke\, and computer games. See you there! Register here! https://forms.gle/fAdJi8efa65aT3yv7\n🌞🌞🌞🌞🌞\nJoignez-vous à nous le jeudi 19 juin à 17 h à Windsor pour notre programme SRAMH. Cet événement comprendra des activités intergénérationnelles telles que des partages d’histoires\, du karaoké et des jeux informatiques. Au plaisir de vous y voir !\nInscrivez-vous ici! https://forms.gle/Dk9TKKp1zrgHkJk77 \n 
URL:https://bcceep.com/event/sramh-windsor-may-2025/
LOCATION:BCCEEP Centre | 1356 Tecumseh Rd West\, Windsor\, ON
END:VEVENT
BEGIN:VEVENT
DTSTART;TZID=America/Toronto:20250613T160000
DTEND;TZID=America/Toronto:20250615T180000
DTSTAMP:20260420T091206
CREATED:20250612T152208Z
LAST-MODIFIED:20250612T152208Z
UID:6586-1749830400-1750010400@bcceep.com
SUMMARY:Carrousel of the Nations- African Village
DESCRIPTION:Come join us this weekend at the BCCEEP Centre to experience the diversity and the beauty of Africa.  \nThere will be food\, music\, dance\, and much more!
URL:https://bcceep.com/event/carrousel-of-the-nations-african-village/
LOCATION:BCCEEP Centre | 1356 Tecumseh Rd West\, Windsor\, ON
ATTACH;FMTTYPE=image/jpeg:https://bcceep.com/wp-content/uploads/2025/06/Instagram-Fb-Post_.jpg
END:VEVENT
END:VCALENDAR